BEGIN:VCALENDAR
VERSION:2.0
PRODID:-//hacksw/handcal//NONSGML v1.0//EN
BEGIN:VEVENT
SUMMARY:Tournoi Para Pelote Basque Adaptee  - Anglet
UID:58130fe9-facd-4094-8098-749d83048845
DTSTART:20260530T080000Z
DTEND:20260530T104500Z
LOCATION:Localisation Mur a gauche OROKBAT 64100 Anglet
CATEGORIES:Sportif
STATUS:
DESCRIPTION:<p>Tournoi amical en 2 contre 2</p>
 
 <p>Programme
 : </p>
 
 <ul>
 	<li> 10h  : Accueil des sportifs</li>
 	<li>10h15 :
 Parties</li>
 	<li>12h30  : Fin du tournoi</li>
 </ul>
 
 <p>IMPORTANT
 : </p>
 
 <p>- engagement par equipe de 2 personnes</p>
 
 <p>- avoir sa
 propre pala</p>
 
 <p>Pour participer, la <span
 style="color:#e74c3c;"><strong>licence Sport Adapte est
 obligatoire</strong></span> : licence annuelle loisir/competition ou
 licence a la journee au tarif de 10€.</p>
 
 <p>Date limite
 d'inscription : <strong> jeudi 28 mai
 2026</strong></p>
 
 <p><em><u>Contact :</u></em></p>
 
 <p><em>Aline
 AGORRODY : aline.agorrody@cdsa64.fr - 06 26 95 75 17</em></p>
URL;VALUE=URI:https://www.cdsa64.com/evenements/2026/05/30/tournoi-para-pelote-basque-adaptee-anglet-2255303
END:VEVENT
END:VCALENDAR
