BEGIN:VCALENDAR
VERSION:2.0
PRODID:-//hacksw/handcal//NONSGML v1.0//EN
BEGIN:VEVENT
SUMMARY:Randonnee Adaptee Col d'Ibardin
UID:dd1abc65-5348-4a51-9f20-82105c4e3cef
DTSTART:20260521T083000Z
DTEND:20260521T123000Z
LOCATION:Localisation   
CATEGORIES:Sportif
STATUS:
DESCRIPTION:<p>Randonnee adaptee aux personnes prises en charge en
 foyers de vie</p>
 
 <p>Programme : </p>
 
 <p>- 10h30 : rdv sur le
 parking d'Ibardin</p>
 
 <p>- 10h45 / 14h : Randonee
 ludique </p>
 
 <p>Infos : 180m de denivele / 3.68km / 1h30 de
 marche</p>
 
 <p>- Le repas sera pris au cours de la
 randonnee</p>
 
 <p> </p>
URL;VALUE=URI:https://www.cdsa64.com/evenements/2026/05/21/randonnee-adaptee-col-dibardin-2439844
END:VEVENT
END:VCALENDAR
