BEGIN:VCALENDAR
VERSION:2.0
PRODID:-//hacksw/handcal//NONSGML v1.0//EN
BEGIN:VEVENT
SUMMARY:Journee Voile - Lourenties
UID:7536fb6b-3eb8-4956-aca0-627d11cb8548
DTSTART:20260521T080000Z
DTEND:20260521T140000Z
LOCATION:Localisation Lac de Gabas 64420 LOURENTIES
CATEGORIES:Sportif
STATUS:
DESCRIPTION:<p>Cette journee est une<span
 style="color:#3498db;"><strong> journee Loisir</strong></span>
 destinee aux personnes en situation de handicap mental quelque soit
 le niveau cognitif. </p>
 
 <p>En partenariat avec le Club Nautique
 Pyreneen, cette journee decouverte de la voile est proposee chaque
 annee sur le lac de Gabas a Lourenties (a proximite de
 Soumoulou).</p>
 
 <p>Le club est dote de bateaux insubmersibles et
 permettant une autonomie dans la navigation. Deux sportifs peuvent
 etre en binome sur le bateau, une poignee leur servira pour diriger
 le voilier de droite a gauche ou tout droit.</p>
 
 <p>Les creneaux
 horaires sont definis de sorte a faire passer les etablissements un
 par un sur l'eau.</p>
 
 <p>En parallele de cette activite, est
 proposee une course d'orientation sur la plaine a proximite de la
 base nautique.</p>
 
 <p> </p>
 
 <p>Cette journee, sera composee de la
 sorte :</p>
 
 <ul>
 	<li>De 10h a 10h30 : Accueil des premiers sportifs
 et equipement</li>
 	<li>10h30 - 11h30 : 1ere
 Rotation</li>
 	<li>11h45-12h45 : 2eme Rotation</li>
 	<li>12h45-13h30
 : Pause</li>
 	<li>13h30-14h30 : 3eme Rotation</li>
 	<li>14h45-15h45 :
 4eme et derniere Rotation</li>
 	<li>Tout au long de la journee :
 Course d'orientation et activites multisports
 possibles</li>
 </ul>
 
 <p> </p>
 
 <p>Pour participer, la <span
 style="color:#e74c3c;"><strong>licence Sport Adapte est
 obligatoire</strong></span> : licence annuelle loisir/competition ou
 licence a la journee au tarif de 10€.</p>
 
 <p>Merci de choisir la
 rotation de votre groupe. Nous precisions qu'une participation
 financiere est demandee pour chacun des sportifs a hauteur de
 10€/personne.</p>
 
 <p><span style="color:#3498db;"><strong>La date
 de report de cette journee est programmee au Jeudi 28
 Mai.</strong></span></p>
 
 <p><u>Contact :</u></p>
 
 <p>Claudine
 SAUZEDDE : claudine.sauzedde@cdsa64.fr - 06 17 72 70 25</p>
 
URL;VALUE=URI:https://www.cdsa64.com/evenements/2026/05/21/journee-voile-lourenties-2254865
END:VEVENT
END:VCALENDAR
