BEGIN:VCALENDAR
VERSION:2.0
PRODID:-//hacksw/handcal//NONSGML v1.0//EN
BEGIN:VEVENT
SUMMARY:Matinee motricite Para Foot Adapte
UID:5799b3bc-9358-4f6b-85c5-188ba4273a33
DTSTART:20260519T080000Z
DTEND:20260519T104500Z
LOCATION:Localisation 64 allee du parc des Sports  Bidache
CATEGORIES:Sportif
STATUS:
DESCRIPTION:<p>Programme : </p>
 
 <ul>
 	<li>10h :
 Accueil</li>
 	<li>10h15 : Debut des ateliers</li>
 	<li>12h15 : Fin
 des ateliers et repas issus de vos paniers</li>
 </ul>
 
 <p>Licence
 2025/2026 obligatoire ou licence Journee </p>
URL;VALUE=URI:https://www.cdsa64.com/evenements/2026/05/19/matinee-motricite-para-foot-adapte-2439849
END:VEVENT
END:VCALENDAR
