BEGIN:VCALENDAR
VERSION:2.0
PRODID:-//hacksw/handcal//NONSGML v1.0//EN
BEGIN:VEVENT
SUMMARY:Championnat Departemental Para Tennis de Table Adapte
UID:0efb3179-0e6e-4902-acc4-a18ff9f885e2
DTSTART:20260516T073000Z
DTEND:20260516T130000Z
LOCATION:Localisation Gymnase Robert Caillou  Bayonne
CATEGORIES:Sportif
STATUS:
DESCRIPTION:<p>9h30 : Accueil des sportifs et verification des
 engagements</p>
 
 <p>10h / 12h30 : Matchs de poules</p>
 
 <p>13h30 /
 15h : Phases finales</p>
 
 <p>15h : Remise des
 recompenses</p>
 
 <p> </p>
 
 <p><u><strong>Attention pour participer
 </strong></u>: </p>
 
 <ul>
 	<li>Licence competitive 2025/2026
 OBLIGATOIRE</li>
 	<li>Completer les inscriptions en ligne</li>
 </ul>
URL;VALUE=URI:https://www.cdsa64.com/evenements/2026/05/16/championnat-departemental-para-tennis-de-table-adapte-2439900
END:VEVENT
END:VCALENDAR
