BEGIN:VCALENDAR
VERSION:2.0
PRODID:-//hacksw/handcal//NONSGML v1.0//EN
BEGIN:VEVENT
SUMMARY:Mercredi ? SAJ ! - Futsal
UID:aab9a40c-f015-4e5e-9a8b-eb999b89e72c
DTSTART:20260506T113000Z
DTEND:20260506T130000Z
LOCATION:Localisation IME Castel de Navarre 64 Jurancon
CATEGORIES:Sportif
STATUS:
DESCRIPTION:<p>Dans le cadre du programme "Mercredi ? SAJ !" propose
 tous les mercredis apres-midi, hors vacances scolaires aux - 21 ans,
 vous trouverez une diversite d'activites sportives adaptees dans un
 objectif de decouverte.</p>
 
 <p>Un cycle est compose de 5 a 8 seances
 selon les periodes scolaires. Voici le decoupage
 :</p>
 
 <ul>
 	<li>Septembre-Octobre : journees
 evenementielles</li>
 	<li>Novembre-Decembre : 1ere periode de
 cycles</li>
 	<li>Janvier-Fevrier : 2eme periode de
 cycles</li>
 	<li>Fevrier-Mars-Avril : 3eme periode de
 cycles</li>
 	<li>Avril-Mai : 4eme periode de
 cycles</li>
 	<li>Mai-Juin : 5eme periode de cycles</li>
 	<li>Fin juin
 : Une journee de cloture qui rassemble l'ensemble des jeunes du
 departement</li>
 </ul>
 
 <p> </p>
 
 <p>Au milieu de ces cycles on
 pourra retrouver des competitions telles que le CROSS, la natation,
 le tennis de table, l'athletisme et le
 ski.</p>
 
 <p> </p>
 
 <p><u><strong>Activite Futsal :</strong></u>
 <span style="color:#2980b9;">au gymnase de l'IME Castel de Navarre -1
 impasse d'Oly - 64110 JURANCON - Horaires : 13h30-15h</span>. <span
 style="color:#e67e22;"><em>Seances composees de plusieurs petits
 ateliers autour de l'ultimate </em></span><em>Ce creneau est
 egalement le creneau de l'IME Castel de Navarre, et se pratique donc
 avec les autres jeunes de l'IME qui seront du nombre de 5 a 8
 personnes, agees de 15 a 18 ans.</em></p>
 
 <p><strong>Afin de
 respecter une homogeneite, la tranche d'age pour participer a cette
 activite est de 15 a 18 ans. Un maximum de 6 jeunes du CDSA sera
 accepte.</strong></p>
 
 <p><strong>Cette activite est encadree par
 Adrien NICOLOSI, educteur sportif de l'IME Castel de
 Navarre.</strong></p>
 
 <p><strong>Les adherents devront se presenter
 devant l’entree de l’etablissement a 13h30 ou Adrien Nicolosi
 viendra<br>
 les recuperer et les accompagner jusqu’au
 gymnase.<br>
 Les educateurs accompagnants sont autorises a entrer
 dans l’etablissement et assister aux seances.<br>
 Les parents ou
 responsables legaux ne sont pas autorises a entrer dans
 l’etablissement.</strong></p>
 
 <p> </p>
 
 <p> </p>
 
 <p><u>Contact
 :</u></p>
 
 <p>Claudine SAUZEDDE - claudine.sauzedde@cdsa64.fr / 06 17
 72 70 25</p>
URL;VALUE=URI:https://www.cdsa64.com/evenements/2026/05/06/mercredi-saj-futsal-2439240
END:VEVENT
END:VCALENDAR
