BEGIN:VCALENDAR
VERSION:2.0
PRODID:-//hacksw/handcal//NONSGML v1.0//EN
BEGIN:VEVENT
SUMMARY:Cycle 5 - SAJ Orthez
UID:ee7a33b9-bf9f-4fec-a1ca-2d4220021cc1
DTSTART:20260429T080000Z
DTEND:20260429T093000Z
LOCATION:Localisation   Orthez
CATEGORIES:Sportif
STATUS:
DESCRIPTION:<p>Dans le cadre du programme "Mercredi ? SAJ !" propose
 tous les mercredis matins, hors vacances scolaires aux - 21 ans, vous
 trouverez une diversite d'activites sportives adaptees dans un
 objectif de decouverte.</p>
 
 <p>Un cycle est compose de 5 a 8 seances
 selon les periodes scolaires. Voici le decoupage
 :</p>
 
 <ul>
 	<li>Septembre-Octobre : 1ere periode de
 cycles</li>
 	<li>Novembre-Decembre : 2eme periode de
 cycles</li>
 	<li>Janvier-Fevrier : 3eme periode de
 cycles</li>
 	<li>Fevrier-Mars-Avril : 5eme periode de
 cycles</li>
 	<li>Avril-Mai : 5eme periode de
 cycles</li>
 	<li>Mai-Juin : 6eme periode de cycles</li>
 	<li>Fin juin
 : Une journee de cloture qui rassemble l'ensemble des jeunes du
 departement</li>
 </ul>
 
 <p> </p>
 
 <p>Au milieu de ces cycles on
 pourra retrouver des competitions telles que le CROSS, la natation,
 le tennis de table, l'athletisme et le
 ski.</p>
 
 <p> </p>
 
 <p><u>Cocnernant le 5eme cycle, voici le detail
 des activites proposees : </u></p>
 
 <p><u><strong>Activite
 Canoe-Kayak :</strong></u> <span style="color:#2980b9;">au bassin
 d'Orthez -64300 ORTHEZ - Horaires : 10h-11h30</span>. <span
 style="color:#e67e22;"><em>Seances autour de la decouverte et la
 pratique du canoe-kayak. </em></span></p>
 
 <p>Cette activite est
 encadree par les salaries du club Orthez Nautique
 Canoe-Kayak. </p>
 
 <p><u><strong>Activite Rugby: </strong></u><span
 style="color:#2980b9;">-  au stade - 64300 ORTHEZ - Horaires :
 10h-11h30</span>. <span style="color:#e67e22;"><em>Seances composees
 d'ateliers et petits matchs.</em></span></p>
 
 <p>Cette activite est
 encadree par Antton SUHIT, salarie du CD Rugby
 64.</p>
 
 <p> </p>
 
 <p><em><u>Contact :</u></em></p>
 
 <p><em>Claudine
 SAUZEDDE - claudine.sauzedde@cdsa64.fr / 06 17 72 70 25</em></p>
URL;VALUE=URI:https://www.cdsa64.com/evenements/2026/04/29/cycle-5-saj-orthez-2257471
END:VEVENT
END:VCALENDAR
