BEGIN:VCALENDAR
VERSION:2.0
PRODID:-//hacksw/handcal//NONSGML v1.0//EN
BEGIN:VEVENT
SUMMARY:Journee Para Tennis Adapte - Ateliers et Matchs - Lons
UID:d7db75bc-d248-4d79-b1d5-093e31146481
DTSTART:20260428T083000Z
DTEND:20260428T133000Z
LOCATION:Localisation   
CATEGORIES:Sportif
STATUS:
DESCRIPTION:<p>Cette journee est une journee Loisir destinee aux
 personnes en situation de handicap mental quelque soit le niveau
 cognitif. </p>
 
 <p>En partenariat avec le Tennis Club de Lons, cette
 matinee composee de differents ateliers tennis est encadree par les
 benevoles du club avec le soutien des educateurs.</p>
 
 <p>Des matchs
 seront proposes tout le long de la journee. Il est possible de
 s'inscrire soit aux ateliers, soit aux matchs, soit aux
 2. </p>
 
 <p>Les matchs se joueront en 5 points
 gagnants.</p>
 
 <p>Cette journee, sera composee de la sorte
 :</p>
 
 <ul>
 	<li>De 10h a 10h30 : Accueil des sportifs et petite
 collation offerte</li>
 	<li>10h30 : Echauffement collectif et
 Constitution des groupes</li>
 	<li>De 11h a 12h30 : Ateliers de
 Tennis de 15 min et Matchs</li>
 	<li>De 12h30 a 13h30 : Pique-nique
 partage ou chacun apporte son repas dans la salle Gerard Forgues,
 situee sur le complexe sportif</li>
 	<li>13h30 a 15h : Reprise des
 ateliers et des matchs pour ceux qui souhaitent rester
 l'apres-midi</li>
 </ul>
 
 <p> </p>
 
 <p>Pour participer, la <span
 style="color:#e74c3c;"><strong>licence Sport Adapte est
 obligatoire</strong></span> : licence annuelle loisir/competition ou
 licence a la journee au tarif de 10€.</p>
 
 <p>Si vous ne pouvez
 arrivez que vers 11h pour des questions logistiques internes a votre
 structure, il n'y a pas de probleme.</p>
 
 <p> </p>
 
 <p><u>Contact
 :</u></p>
 
 <p>Claudine SAUZEDDE : claudine.sauzedde@cdsa64.fr - 06 17
 72 70 25</p>
URL;VALUE=URI:https://www.cdsa64.com/evenements/2026/04/28/journee-para-tennis-adapte-ateliers-et-matchs-lons-2253711
END:VEVENT
END:VCALENDAR
