BEGIN:VCALENDAR
VERSION:2.0
PRODID:-//hacksw/handcal//NONSGML v1.0//EN
BEGIN:VEVENT
SUMMARY:MOINS DE 12 ANS - Mercredi ? SAJ ! - Football
UID:0e3fde99-7aee-4aab-b6e6-979ebe3c73f3
DTSTART:20260422T120000Z
DTEND:20260422T133000Z
LOCATION:Localisation Stade Paul Escude 64000 PAU
CATEGORIES:Sportif
STATUS:
DESCRIPTION:<p>Dans le cadre du programme "Mercredi ? SAJ !" propose
 tous les mercredis apres-midi, hors vacances scolaires aux - 21 ans,
 vous trouverez une diversite d'activites sportives adaptees dans un
 objectif de decouverte.</p>
 
 <p>Un cycle est compose de 5 a 8 seances
 selon les periodes scolaires. Voici le decoupage
 :</p>
 
 <ul>
 	<li>Septembre-Octobre : journees
 evenementielles</li>
 	<li>Novembre-Decembre : 1ere periode de
 cycles</li>
 	<li>Janvier-Fevrier : 2eme periode de
 cycles</li>
 	<li>Fevrier-Mars-Avril : 3eme periode de
 cycles</li>
 	<li>Avril-Mai : 4eme periode de
 cycles</li>
 	<li>Mai-Juin : 5eme periode de cycles</li>
 	<li>Fin juin
 : Une journee de cloture qui rassemble l'ensemble des jeunes du
 departement</li>
 </ul>
 
 <p> </p>
 
 <p>Au milieu de ces cycles on
 pourra retrouver des competitions telles que le CROSS, la natation,
 le tennis de table, l'athletisme et le
 ski.</p>
 
 <p> </p>
 
 <p><u><strong>Activite Football :
 </strong></u><span style="color:#2980b9;">Terrain de foot Paul Escude
 - Complexe Leo Lagrange -64000 PAU - Horaires : 14h-15h30 </span>.
 <span style="color:#e67e22;"><em>Seances composees d'ateliers
 pedagogiques autour de l'activite football. Mini opposition en fin de
 seance</em></span></p>
 
 <p>Cette activite est encadree par Cedric
 CAILLABET du District de Foot.</p>
 
 <p>Cette activite se deroule en
 parallele de l'activite football proposee a l'annee, sur le meme
 terrain.</p>
 
 <p> </p>
 
 <p><u>Contact :</u></p>
 
 <p>Claudine
 SAUZEDDE - claudine.sauzedde@cdsa64.fr / 06 17 72 70 25</p>
 
URL;VALUE=URI:https://www.cdsa64.com/evenements/2026/04/22/moins-de-12-ans-mercredi-saj-football-2250857
END:VEVENT
END:VCALENDAR
