BEGIN:VCALENDAR
VERSION:2.0
PRODID:-//hacksw/handcal//NONSGML v1.0//EN
BEGIN:VEVENT
SUMMARY:Mercredi ? SAJ ! - Tennis de Table
UID:207ff722-2b16-4afe-86fe-111483046424
DTSTART:20260422T113000Z
DTEND:20260422T130000Z
LOCATION:Localisation Salle de l'ASPTT avenue de Lons 64140 BILLERE
CATEGORIES:Sportif
STATUS:
DESCRIPTION:<p>Dans le cadre du programme "Mercredi ? SAJ !" propose
 tous les mercredis apres-midi, hors vacances scolaires aux - 21 ans,
 vous trouverez une diversite d'activites sportives adaptees dans un
 objectif de decouverte.</p>
 
 <p>Un cycle est compose de 5 a 8 seances
 selon les periodes scolaires. Voici le decoupage
 :</p>
 
 <ul>
 	<li>Septembre-Octobre : journees
 evenementielles</li>
 	<li>Novembre-Decembre : 1ere periode de
 cycles</li>
 	<li>Janvier-Fevrier : 2eme periode de
 cycles</li>
 	<li>Fevrier-Mars-Avril : 3eme periode de
 cycles</li>
 	<li>Avril-Mai : 4eme periode de
 cycles</li>
 	<li>Mai-Juin : 5eme periode de cycles</li>
 	<li>Fin juin
 : Une journee de cloture qui rassemble l'ensemble des jeunes du
 departement</li>
 </ul>
 
 <p> </p>
 
 <p>Au milieu de ces cycles on
 pourra retrouver des competitions telles que le CROSS, la natation,
 le tennis de table, l'athletisme et le
 ski.</p>
 
 <p> </p>
 
 <p><u><strong>Activite Tennis de Table
 :</strong></u> <span style="color:#2980b9;">a la salle de l'ASPTT -
 Avenue de Lons - 64140 BILLERE - Horaires : 13h30-15h</span>. <span
 style="color:#e67e22;"><em>Seances composees de plusieurs petits
 ateliers ludiques de precision. </em></span><em>Ce creneau est
 egalement le creneau du club, ce qui peut permettre de faire une
 passerelle entre le Sport Adapte et la Section Paloise.
 </em></p>
 
 <p><em>Cette activite est encadree par Alison, diplomee
 d'un DEJEPS en Tennis de Table, salariee de la Section Paloise Tennis
 de Table.</em></p>
 
 <p>Cette activite est proposee tout au long de
 l'annee. Les jeunes ont egalement la possibilite de participer a des
 rencontres competitives si cela les interesse. Pour cela voir le
 calendrier departemental.</p>
 
 <p> </p>
 
 <p><u>Contact
 :</u></p>
 
 <p>Claudine SAUZEDDE - claudine.sauzedde@cdsa64.fr / 06 17
 72 70 25</p>
 
URL;VALUE=URI:https://www.cdsa64.com/evenements/2026/04/22/mercredi-saj-tennis-de-table-2250879
END:VEVENT
END:VCALENDAR
