BEGIN:VCALENDAR
VERSION:2.0
PRODID:-//hacksw/handcal//NONSGML v1.0//EN
BEGIN:VEVENT
SUMMARY:Mercredi ? SAJ ! - Gymnastique
UID:e54cbfbd-b387-4c38-a1a5-edc106aff47d
DTSTART:20260422T113000Z
DTEND:20260422T124500Z
LOCATION:Localisation   
CATEGORIES:Sportif
STATUS:
DESCRIPTION:<p>Dans le cadre du programme "Mercredi ? SAJ !" propose
 tous les mercredis apres-midi, hors vacances scolaires aux - 21 ans,
 vous trouverez une diversite d'activites sportives adaptees dans un
 objectif de decouverte.</p>
 
 <p>Un cycle est compose de 5 a 8 seances
 selon les periodes scolaires. Voici le decoupage
 :</p>
 
 <ul>
 	<li>Septembre-Octobre : journees
 evenementielles</li>
 	<li>Novembre-Decembre : 1ere periode de
 cycles</li>
 	<li>Janvier-Fevrier : 2eme periode de
 cycles</li>
 	<li>Mars-Avril : 3eme periode de
 cycles</li>
 	<li>Mai-Juin : 4eme periode de cycles</li>
 	<li>Fin juin
 : Une journee de cloture qui rassemble l'ensemble des jeunes du
 departement</li>
 </ul>
 
 <p> </p>
 
 <p>Au milieu de ces cycles on
 pourra retrouver des competitions telles que le CROSS, la natation,
 le tennis de table, l'athletisme et le
 ski.</p>
 
 <p> </p>
 
 <p><u><strong>Activite Gymnastique Artistique
 :</strong></u> <span style="color:#2980b9;">au Dojo Leo Lagrange -
 Rue Jean Genese - 64000 PAU - Horaires : 13h30-14h45</span>. <span
 style="color:#e67e22;"><em>Seances composees de plusieurs petits
 ateliers de motricite, d'equilibre, de coordination.
 </em></span></p>
 
 <p><em>Cette activite est encadree par Virginie DA
 FONSECA, salariee du Comite Departemental de Gym. </em></p>
 
 <p>Cette
 activite est proposee pour une decouverte,
 initiation.</p>
 
 <p> </p>
 
 <p>Contact :</p>
 
 <p>Claudine SAUZEDDE -
 06 17 72 70 25 / claudine.sauzedde@cdsa64.fr</p>
 
URL;VALUE=URI:https://www.cdsa64.com/evenements/2026/04/22/mercredi-saj-gymnastique-2255525
END:VEVENT
END:VCALENDAR
