BEGIN:VCALENDAR
VERSION:2.0
PRODID:-//hacksw/handcal//NONSGML v1.0//EN
BEGIN:VEVENT
SUMMARY:Mercredi ? SAJ ! - Escalade 
UID:d50503f3-fbee-4a90-82fd-436994dfb875
DTSTART:20260422T113000Z
DTEND:20260422T130000Z
LOCATION:Localisation Beta Bloc 64000 PAU
CATEGORIES:Sportif
STATUS:
DESCRIPTION:<p>Dans le cadre du programme "Mercredi ? SAJ !" propose
 tous les mercredis apres-midi, hors vacances scolaires aux - 21 ans,
 vous trouverez une diversite d'activites sportives adaptees dans un
 objectif de decouverte.</p>
 
 <p>Un cycle est compose de 5 a 8 seances
 selon les periodes scolaires. Voici le decoupage
 :</p>
 
 <ul>
 	<li>Septembre-Octobre : journees
 evenementielles</li>
 	<li>Novembre-Decembre : 1ere periode de
 cycles</li>
 	<li>Janvier-Fevrier : 2eme periode de
 cycles</li>
 	<li>Fevrier-Mars-Avril : 3eme periode de
 cycles</li>
 	<li>Avril-Mai : 4eme periode de
 cycles</li>
 	<li>Mai-Juin : 5eme periode de cycles</li>
 	<li>Fin juin
 : Une journee de cloture qui rassemble l'ensemble des jeunes du
 departement</li>
 </ul>
 
 <p> </p>
 
 <p>Au milieu de ces cycles on
 pourra retrouver des competitions telles que le CROSS, la natation,
 le tennis de table, l'athletisme et le
 ski.</p>
 
 <p> </p>
 
 <p><u><strong>Activite Escalade :
 </strong></u><span style="color:#2980b9;">Beta-Bloc - Horaires :
 13h30-15h</span>. <span style="color:#e67e22;"><em>Seances composees
 d'ateliers de decouverte de l'escalade experimentant les sensations
 de verticalite, le deplacement horizontal, l'appropriation du mur,
 l'equilibre. Grimpe sur corde sur la deuxieme partie de
 seance.</em></span></p>
 
 <p>Cette activite est encadree par Anthony,
 Florence et Adrien</p>
 
 <p>Des competitions sont egalement organisees
 :</p>
 
 <ul>
 	<li>Samedi 19 Octobre a Bayonne</li>
 	<li>Mercredi 4
 Decembre a Bayonne</li>
 	<li>Date a definir a Pau</li>
 	<li>Date a
 defini en Mai a Oloron</li>
 </ul>
 
 <p> </p>
 
 <p><u>Contact
 :</u></p>
 
 <p>Claudine SAUZEDDE - claudine.sauzedde@cdsa64.fr / 06 17
 72 70 25</p>
 
URL;VALUE=URI:https://www.cdsa64.com/evenements/2026/04/22/mercredi-saj-escalade-2250842
END:VEVENT
END:VCALENDAR
